BEGIN:VCALENDAR
VERSION:2.0
PRODID:-//Fircroft College - ECPv6.15.20//NONSGML v1.0//EN
CALSCALE:GREGORIAN
METHOD:PUBLISH
X-ORIGINAL-URL:https://www.fircroft.ac.uk
X-WR-CALDESC:Events for Fircroft College
REFRESH-INTERVAL;VALUE=DURATION:PT1H
X-Robots-Tag:noindex
X-PUBLISHED-TTL:PT1H
BEGIN:VTIMEZONE
TZID:UTC
BEGIN:STANDARD
TZOFFSETFROM:+0000
TZOFFSETTO:+0000
TZNAME:UTC
DTSTART:20240101T000000
END:STANDARD
END:VTIMEZONE
BEGIN:VEVENT
DTSTART;TZID=UTC:20251202T100000
DTEND;TZID=UTC:20251202T130000
DTSTAMP:20260424T092625
CREATED:20251015T165824Z
LAST-MODIFIED:20251117T160627Z
UID:10000250-1764669600-1764680400@www.fircroft.ac.uk
SUMMARY:Adult Skills: Pre-Access Course (previously known as our Academic and Careers Skills Programme) Assessment Day Tuesday 2nd December 2025
DESCRIPTION:Our Adult Skills: Pre-Access Course (previously known as our Academic and Careers Skills Programme) Assessment Days \nIn order to be considered for our Adult Skills: Pre-Access course\, you need to attend an Assessment Day\, after you have submitted a formal application using our application form either on the website at www.fircroft.ac.uk\, or a paper application form you can obtain from the college either by visiting us or requesting it by post. \nIt is mandatory that you attend an Assessment Day before potentially progressing to any further part of the enrolment process. \nRegister to attend an Adult Skills: Pre-Access Assessment Day and come and see the college\, meet some of the staff and you will be required to complete an English and maths assessment on the day. \nBecause this course is intensive\, we have a rigorous recruitment process and you must attend an Assessment Day as part of the recruitment process. \nYou can find out more about our Adult Skills: Pre-Access course\, and apply\, here: Academic And Career Skills Programme – Fircroft College \nThis Assessment Day starts at 10.00am and ends at 1.00pm.  Please arrive on time. If you arrive late\, due to how we run our Assessnent Days \, we may not be able to include you and this may affect your opportunity to be considered for our Adult Skills: Pre-Access course \nPlease note: lunch will not be provided
URL:https://www.fircroft.ac.uk/event/academic-and-careers-skills-programme-assessment-day-tuesday-2nd-december-2025/
LOCATION:Fircroft College\, 1018 Bristol Road\, Birmingham\, B29 6LH\, United Kingdom
CATEGORIES:Access Open Days
ATTACH;FMTTYPE=image/jpeg:https://www.fircroft.ac.uk/wp-content/uploads/2025/10/DSC_1557-Enhanced-NR.jpg
ORGANIZER;CN="Fircroft College":MAILTO:admissions@fircroft.ac.uk
END:VEVENT
END:VCALENDAR