BEGIN:VCALENDAR
VERSION:2.0
PRODID:-//Fircroft College - ECPv6.15.20//NONSGML v1.0//EN
CALSCALE:GREGORIAN
METHOD:PUBLISH
X-WR-CALNAME:Fircroft College
X-ORIGINAL-URL:https://www.fircroft.ac.uk
X-WR-CALDESC:Events for Fircroft College
REFRESH-INTERVAL;VALUE=DURATION:PT1H
X-Robots-Tag:noindex
X-PUBLISHED-TTL:PT1H
BEGIN:VTIMEZONE
TZID:UTC
BEGIN:STANDARD
TZOFFSETFROM:+0000
TZOFFSETTO:+0000
TZNAME:UTC
DTSTART:20220101T000000
END:STANDARD
END:VTIMEZONE
BEGIN:VEVENT
DTSTART;TZID=UTC:20231003T100000
DTEND;TZID=UTC:20231003T113000
DTSTAMP:20260423T122609
CREATED:20230918T134815Z
LAST-MODIFIED:20230926T061435Z
UID:10000044-1696327200-1696332600@www.fircroft.ac.uk
SUMMARY:Open Day - 3rd October 2023\, 10.00am
DESCRIPTION:Our Open Days \nRegister to attend and come and see the college\, meet some of the staff\, find out more about our courses and maybe even apply for a course! \nThere are two sessions starting at: 10am and 1.00pm.  Please arrive on time for your session. \n 
URL:https://www.fircroft.ac.uk/event/open-day-03-october-2023-10-00am-2/
LOCATION:Fircroft College\, 1018 Bristol Road\, Birmingham\, B29 6LH\, United Kingdom
CATEGORIES:Open Days
ORGANIZER;CN="Fircroft College":MAILTO:admissions@fircroft.ac.uk
END:VEVENT
BEGIN:VEVENT
DTSTART;TZID=UTC:20230926T130000
DTEND;TZID=UTC:20230926T143000
DTSTAMP:20260423T122609
CREATED:20230830T090743Z
LAST-MODIFIED:20230830T090743Z
UID:10000042-1695733200-1695738600@www.fircroft.ac.uk
SUMMARY:Open Day - 26th September 2023\, 1.00pm
DESCRIPTION:Our Open Days \nRegister to attend and come and see the college\, meet some of the staff\, find out more about our courses and maybe even apply for a course! \nThere are two sessions starting at: 10am and 1.00pm.  Please arrive on time for your session. \n 
URL:https://www.fircroft.ac.uk/event/open-day-26th-september-2023-1-00pm/
LOCATION:Fircroft College\, 1018 Bristol Road\, Birmingham\, B29 6LH\, United Kingdom
CATEGORIES:Open Days
ORGANIZER;CN="Fircroft College":MAILTO:admissions@fircroft.ac.uk
END:VEVENT
BEGIN:VEVENT
DTSTART;TZID=UTC:20230926T100000
DTEND;TZID=UTC:20230926T113000
DTSTAMP:20260423T122609
CREATED:20230830T090909Z
LAST-MODIFIED:20230830T090909Z
UID:10000043-1695722400-1695727800@www.fircroft.ac.uk
SUMMARY:Open Day - 26th September 2023\, 10.00am
DESCRIPTION:Our Open Days \nRegister to attend and come and see the college\, meet some of the staff\, find out more about our courses and maybe even apply for a course! \nThere are two sessions starting at: 10am and 1.00pm.  Please arrive on time for your session. \n 
URL:https://www.fircroft.ac.uk/event/open-day-26th-september-2023-10-00am/
LOCATION:Fircroft College\, 1018 Bristol Road\, Birmingham\, B29 6LH\, United Kingdom
CATEGORIES:Open Days
ORGANIZER;CN="Fircroft College":MAILTO:admissions@fircroft.ac.uk
END:VEVENT
BEGIN:VEVENT
DTSTART;TZID=UTC:20230919T130000
DTEND;TZID=UTC:20230919T143000
DTSTAMP:20260423T122609
CREATED:20230830T090419Z
LAST-MODIFIED:20230830T090419Z
UID:10000040-1695128400-1695133800@www.fircroft.ac.uk
SUMMARY:Open Day - 19th September 2023\, 1.00pm
DESCRIPTION:Our Open Days \nRegister to attend and come and see the college\, meet some of the staff\, find out more about our courses and maybe even apply for a course! \nThere are two sessions starting at: 10am and 1.00pm.  Please arrive on time for your session. \n 
URL:https://www.fircroft.ac.uk/event/open-day-19th-september-2023-1-00pm/
LOCATION:Fircroft College\, 1018 Bristol Road\, Birmingham\, B29 6LH\, United Kingdom
CATEGORIES:Open Days
ORGANIZER;CN="Fircroft College":MAILTO:admissions@fircroft.ac.uk
END:VEVENT
BEGIN:VEVENT
DTSTART;TZID=UTC:20230919T100000
DTEND;TZID=UTC:20230919T113000
DTSTAMP:20260423T122609
CREATED:20230830T090619Z
LAST-MODIFIED:20230830T090619Z
UID:10000041-1695117600-1695123000@www.fircroft.ac.uk
SUMMARY:Open Day - 19th September 2023\, 10.00am
DESCRIPTION:Our Open Days \nRegister to attend and come and see the college\, meet some of the staff\, find out more about our courses and maybe even apply for a course! \nThere are two sessions starting at: 10am and 1.00pm.  Please arrive on time for your session. \n 
URL:https://www.fircroft.ac.uk/event/open-day-19th-september-2023-10-00am/
LOCATION:Fircroft College\, 1018 Bristol Road\, Birmingham\, B29 6LH\, United Kingdom
CATEGORIES:Open Days
ORGANIZER;CN="Fircroft College":MAILTO:admissions@fircroft.ac.uk
END:VEVENT
BEGIN:VEVENT
DTSTART;TZID=UTC:20230912T130000
DTEND;TZID=UTC:20230912T143000
DTSTAMP:20260423T122609
CREATED:20230830T085652Z
LAST-MODIFIED:20230907T141646Z
UID:10000039-1694523600-1694529000@www.fircroft.ac.uk
SUMMARY:Open Day - 12th September 2023\, 1.00pm
DESCRIPTION:Our Open Days \nRegister to attend and come and see the college\, meet some of the staff\, find out more about our courses and maybe even apply for a course! \nThere are two sessions starting at: 10am and 1.00pm.  Please arrive on time for your session. \n 
URL:https://www.fircroft.ac.uk/event/open-day-12th-september-2023-1-00pm/
LOCATION:Fircroft College\, 1018 Bristol Road\, Birmingham\, B29 6LH\, United Kingdom
CATEGORIES:Open Days
ORGANIZER;CN="Fircroft College":MAILTO:admissions@fircroft.ac.uk
END:VEVENT
BEGIN:VEVENT
DTSTART;TZID=UTC:20230912T100000
DTEND;TZID=UTC:20230912T113000
DTSTAMP:20260423T122609
CREATED:20230829T094458Z
LAST-MODIFIED:20230830T085840Z
UID:10000038-1694512800-1694518200@www.fircroft.ac.uk
SUMMARY:Open Day - 12th September 2023\, 10.00am
DESCRIPTION:Our Open Days \nRegister to attend and come and see the college\, meet some of the staff\, find out more about our courses and maybe even apply for a course! \nThere are two sessions starting at: 10am and 1.00pm.  Please arrive on time for your session. \n 
URL:https://www.fircroft.ac.uk/event/open-day-12th-september-2023-10-00am/
LOCATION:Fircroft College\, 1018 Bristol Road\, Birmingham\, B29 6LH\, United Kingdom
CATEGORIES:Open Days
ORGANIZER;CN="Fircroft College":MAILTO:admissions@fircroft.ac.uk
END:VEVENT
BEGIN:VEVENT
DTSTART;TZID=UTC:20230907T130000
DTEND;TZID=UTC:20230907T150000
DTSTAMP:20260423T122609
CREATED:20230720T133705Z
LAST-MODIFIED:20230824T105356Z
UID:10000036-1694091600-1694098800@www.fircroft.ac.uk
SUMMARY:Open Day - 7th September 2023\, 1.00pm
DESCRIPTION:Our Open Days \nAlthough our Open Days are usually held on a Tuesday\, this one is on a Thursday.  Register to attend and come and see the college\, meet some of the staff\, find out more about our courses and maybe even apply for a course! \nThere are two sessions starting at: 10am and 1.00pm. \n 
URL:https://www.fircroft.ac.uk/event/open-day-5th-september-2023-1-00pm/
LOCATION:Fircroft College\, 1018 Bristol Road\, Birmingham\, B29 6LH\, United Kingdom
CATEGORIES:Open Days
ORGANIZER;CN="Fircroft College":MAILTO:admissions@fircroft.ac.uk
END:VEVENT
BEGIN:VEVENT
DTSTART;TZID=UTC:20230907T100000
DTEND;TZID=UTC:20230907T113000
DTSTAMP:20260423T122609
CREATED:20230720T155322Z
LAST-MODIFIED:20230829T094605Z
UID:10000037-1694080800-1694086200@www.fircroft.ac.uk
SUMMARY:Open Day - 7th September 2023\, 10.00am
DESCRIPTION:Our Open Days \nAlthough our Open Days are usually on Tuesdays\, this one is on a Thursday.  Register to attend and come and see the college\, meet some of the staff\, find out more about our courses and maybe even apply for a course! \nThere are two sessions starting at: 10am and 1.00pm. \n 
URL:https://www.fircroft.ac.uk/event/open-day-5th-september-2023-10-00am/
LOCATION:Fircroft College\, 1018 Bristol Road\, Birmingham\, B29 6LH\, United Kingdom
CATEGORIES:Open Days
ORGANIZER;CN="Fircroft College":MAILTO:admissions@fircroft.ac.uk
END:VEVENT
BEGIN:VEVENT
DTSTART;TZID=UTC:20230829T130000
DTEND;TZID=UTC:20230829T150000
DTSTAMP:20260423T122609
CREATED:20230720T130413Z
LAST-MODIFIED:20230720T155323Z
UID:10000035-1693314000-1693321200@www.fircroft.ac.uk
SUMMARY:Open Day - 29th August 2023\, 1.00pm
DESCRIPTION:Our Open Days \nOur open days are held every Tuesday.  Register to attend and come and see the college\, meet some of the staff\, find out more about our courses and maybe even apply for a course! \nThere are two sessions starting at: 10am and 1.00pm. This is an afternoon event. \n 
URL:https://www.fircroft.ac.uk/event/open-day-29th-august-2023-1-00pm/
LOCATION:Fircroft College\, 1018 Bristol Road\, Birmingham\, B29 6LH\, United Kingdom
CATEGORIES:Open Days
ORGANIZER;CN="Fircroft College":MAILTO:admissions@fircroft.ac.uk
END:VEVENT
BEGIN:VEVENT
DTSTART;TZID=UTC:20230829T100000
DTEND;TZID=UTC:20230829T120000
DTSTAMP:20260423T122609
CREATED:20230720T125636Z
LAST-MODIFIED:20230720T155323Z
UID:10000032-1693303200-1693310400@www.fircroft.ac.uk
SUMMARY:Open Day - 29th August 2023\, 10.00am
DESCRIPTION:Our Open Days \nOur open days are held every Tuesday.  Register to attend and come and see the college\, meet some of the staff\, find out more about our courses and maybe even apply for a course! \nThere are two sessions starting at: 10am and 1.00pm. This is a morning event. \n 
URL:https://www.fircroft.ac.uk/event/open-day-29th-august-2023-10-00am/
LOCATION:Fircroft College\, 1018 Bristol Road\, Birmingham\, B29 6LH\, United Kingdom
CATEGORIES:Open Days
ORGANIZER;CN="Fircroft College":MAILTO:admissions@fircroft.ac.uk
END:VEVENT
BEGIN:VEVENT
DTSTART;TZID=UTC:20230822T130000
DTEND;TZID=UTC:20230822T150000
DTSTAMP:20260423T122609
CREATED:20230720T125311Z
LAST-MODIFIED:20230720T155323Z
UID:10000030-1692709200-1692716400@www.fircroft.ac.uk
SUMMARY:Open Day - 22nd August 2023\, 1.00pm
DESCRIPTION:Our Open Days \nOur open days are held every Tuesday.  Register to attend and come and see the college\, meet some of the staff\, find out more about our courses and maybe even apply for a course! \nThere are two sessions starting at: 10am and 1.00pm. This is an afternoon event. \n 
URL:https://www.fircroft.ac.uk/event/open-day-22nd-august-2023-1-00pm/
LOCATION:Fircroft College\, 1018 Bristol Road\, Birmingham\, B29 6LH\, United Kingdom
CATEGORIES:Open Days
ORGANIZER;CN="Fircroft College":MAILTO:admissions@fircroft.ac.uk
END:VEVENT
BEGIN:VEVENT
DTSTART;TZID=UTC:20230822T100000
DTEND;TZID=UTC:20230822T120000
DTSTAMP:20260423T122609
CREATED:20230720T125432Z
LAST-MODIFIED:20230720T155324Z
UID:10000031-1692698400-1692705600@www.fircroft.ac.uk
SUMMARY:Open Day - 22nd August 2023\, 10.00am
DESCRIPTION:Our Open Days \nOur open days are held every Tuesday.  Register to attend and come and see the college\, meet some of the staff\, find out more about our courses and maybe even apply for a course! \nThere are two sessions starting at: 10am and 1.00pm. This is a morning event. \n 
URL:https://www.fircroft.ac.uk/event/open-day-22nd-august-2023-10-00am/
LOCATION:Fircroft College\, 1018 Bristol Road\, Birmingham\, B29 6LH\, United Kingdom
CATEGORIES:Open Days
ORGANIZER;CN="Fircroft College":MAILTO:admissions@fircroft.ac.uk
END:VEVENT
BEGIN:VEVENT
DTSTART;TZID=UTC:20230815T130000
DTEND;TZID=UTC:20230815T150000
DTSTAMP:20260423T122609
CREATED:20230720T125029Z
LAST-MODIFIED:20230720T155324Z
UID:10000029-1692104400-1692111600@www.fircroft.ac.uk
SUMMARY:Open Day - 15th August 2023\, 1.00pm
DESCRIPTION:Our Open Days \nOur open days are held every Tuesday.  Register to attend and come and see the college\, meet some of the staff\, find out more about our courses and maybe even apply for a course! \nThere are two sessions starting at: 10am and 1.00pm. \n 
URL:https://www.fircroft.ac.uk/event/open-day-15th-august-2023-1-00pm/
LOCATION:Fircroft College\, 1018 Bristol Road\, Birmingham\, B29 6LH\, United Kingdom
CATEGORIES:Open Days
ORGANIZER;CN="Fircroft College":MAILTO:admissions@fircroft.ac.uk
END:VEVENT
BEGIN:VEVENT
DTSTART;TZID=UTC:20230815T100000
DTEND;TZID=UTC:20230815T120000
DTSTAMP:20260423T122609
CREATED:20230720T124837Z
LAST-MODIFIED:20230720T155324Z
UID:10000028-1692093600-1692100800@www.fircroft.ac.uk
SUMMARY:Open Day - 15th August 2023\, 10.00am
DESCRIPTION:Our Open Days \nOur open days are held every Tuesday.  Register to attend and come and see the college\, meet some of the staff\, find out more about our courses and maybe even apply for a course! \nThere are two sessions starting at: 10am and 1.00pm. \n 
URL:https://www.fircroft.ac.uk/event/open-day-15th-august-2023-10-00am/
LOCATION:Fircroft College\, 1018 Bristol Road\, Birmingham\, B29 6LH\, United Kingdom
CATEGORIES:Open Days
ORGANIZER;CN="Fircroft College":MAILTO:admissions@fircroft.ac.uk
END:VEVENT
BEGIN:VEVENT
DTSTART;TZID=UTC:20230808T130000
DTEND;TZID=UTC:20230808T150000
DTSTAMP:20260423T122609
CREATED:20230720T124357Z
LAST-MODIFIED:20230720T155325Z
UID:10000027-1691499600-1691506800@www.fircroft.ac.uk
SUMMARY:Open Day - 8th August 2023\, 1.00pm
DESCRIPTION:Our Open Days \nOur open days are held every Tuesday.  Register to attend and come and see the college\, meet some of the staff\, find out more about our courses and maybe even apply for a course! \nThere are two sessions starting at: 10am and 1.00pm. \n 
URL:https://www.fircroft.ac.uk/event/open-day-8th-august-2023-1-00pm/
LOCATION:Fircroft College\, 1018 Bristol Road\, Birmingham\, B29 6LH\, United Kingdom
CATEGORIES:Open Days
ORGANIZER;CN="Fircroft College":MAILTO:admissions@fircroft.ac.uk
END:VEVENT
BEGIN:VEVENT
DTSTART;TZID=UTC:20230808T100000
DTEND;TZID=UTC:20230808T120000
DTSTAMP:20260423T122609
CREATED:20230720T124145Z
LAST-MODIFIED:20230720T155325Z
UID:10000026-1691488800-1691496000@www.fircroft.ac.uk
SUMMARY:Open Day - 8th August 2023\, 10.00am
DESCRIPTION:Our Open Days \nOur open days are held every Tuesday.  Register to attend and come and see the college\, meet some of the staff\, find out more about our courses and maybe even apply for a course! \nThere are two sessions starting at: 10am and 1.00pm. \n 
URL:https://www.fircroft.ac.uk/event/open-day-8th-august-2023-10-00am/
LOCATION:Fircroft College\, 1018 Bristol Road\, Birmingham\, B29 6LH\, United Kingdom
CATEGORIES:Open Days
ORGANIZER;CN="Fircroft College":MAILTO:admissions@fircroft.ac.uk
END:VEVENT
BEGIN:VEVENT
DTSTART;TZID=UTC:20230801T130000
DTEND;TZID=UTC:20230801T150000
DTSTAMP:20260423T122609
CREATED:20230720T124002Z
LAST-MODIFIED:20230720T155325Z
UID:10000025-1690894800-1690902000@www.fircroft.ac.uk
SUMMARY:Open Day - 1st August 2023\, 1.00pm
DESCRIPTION:Our Open Days \nOur open days are held every Tuesday.  Register to attend and come and see the college\, meet some of the staff\, find out more about our courses and maybe even apply for a course! \nThere are two sessions starting at: 10am and 1.00pm. \n 
URL:https://www.fircroft.ac.uk/event/open-day-1st-august-2023-1-00pm/
LOCATION:Fircroft College\, 1018 Bristol Road\, Birmingham\, B29 6LH\, United Kingdom
CATEGORIES:Open Days
ORGANIZER;CN="Fircroft College":MAILTO:admissions@fircroft.ac.uk
END:VEVENT
BEGIN:VEVENT
DTSTART;TZID=UTC:20230801T100000
DTEND;TZID=UTC:20230801T120000
DTSTAMP:20260423T122609
CREATED:20230720T123611Z
LAST-MODIFIED:20230720T155326Z
UID:10000024-1690884000-1690891200@www.fircroft.ac.uk
SUMMARY:Open Day - 1st August 2023\, 10.00am
DESCRIPTION:Our Open Days \nOur open days are held every Tuesday.  Register to attend and come and see the college\, meet some of the staff\, find out more about our courses and maybe even apply for a course! \nThere are two sessions starting at: 10am and 1.00pm. \n 
URL:https://www.fircroft.ac.uk/event/open-day-1st-august-2023-10-00am/
LOCATION:Fircroft College\, 1018 Bristol Road\, Birmingham\, B29 6LH\, United Kingdom
CATEGORIES:Open Days
ORGANIZER;CN="Fircroft College":MAILTO:admissions@fircroft.ac.uk
END:VEVENT
BEGIN:VEVENT
DTSTART;TZID=UTC:20230725T130000
DTEND;TZID=UTC:20230725T150000
DTSTAMP:20260423T122609
CREATED:20230720T123145Z
LAST-MODIFIED:20230720T155326Z
UID:10000023-1690290000-1690297200@www.fircroft.ac.uk
SUMMARY:Open Day - 25th July 2023\, 1.00pm
DESCRIPTION:Our Open Days \nOur open days are held every Tuesday.  Register to attend and come and see the college\, meet some of the staff\, find out more about our courses and maybe even apply for a course! \nThere are two sessions starting at: 10am and 1.00pm. \n 
URL:https://www.fircroft.ac.uk/event/open-day-25th-july-2023-1-00pm/
LOCATION:Fircroft College\, 1018 Bristol Road\, Birmingham\, B29 6LH\, United Kingdom
CATEGORIES:Open Days
ORGANIZER;CN="Fircroft College":MAILTO:admissions@fircroft.ac.uk
END:VEVENT
BEGIN:VEVENT
DTSTART;TZID=UTC:20230725T100000
DTEND;TZID=UTC:20230725T120000
DTSTAMP:20260423T122609
CREATED:20230720T122947Z
LAST-MODIFIED:20230720T155326Z
UID:10000022-1690279200-1690286400@www.fircroft.ac.uk
SUMMARY:Open Day - 25th July 2023\, 10.00am
DESCRIPTION:Our Open Days \nOur open days are held every Tuesday.  Register to attend and come and see the college\, meet some of the staff\, find out more about our courses and maybe even apply for a course! \nThere are two sessions starting at: 10am and 1.00pm. \n 
URL:https://www.fircroft.ac.uk/event/open-day-25th-july-2023-10am/
LOCATION:Fircroft College\, 1018 Bristol Road\, Birmingham\, B29 6LH\, United Kingdom
CATEGORIES:Open Days
ORGANIZER;CN="Fircroft College":MAILTO:admissions@fircroft.ac.uk
END:VEVENT
BEGIN:VEVENT
DTSTART;TZID=UTC:20230718T130000
DTEND;TZID=UTC:20230718T150000
DTSTAMP:20260423T122609
CREATED:20230712T120301Z
LAST-MODIFIED:20230720T155327Z
UID:10000008-1689685200-1689692400@www.fircroft.ac.uk
SUMMARY:Open Day - 18th July 2023\, 1.00pm
DESCRIPTION:Our Open Days \nOur open days are held every Tuesday.  Register to attend and come and see the college\, meet some of the staff\, find out more about our courses and maybe even apply for a course! \nThere are two sessions starting at: 10am and 1.00pm. Book on this page for the afternoon session. \n 
URL:https://www.fircroft.ac.uk/event/open-day-afternoon-2023-07-18/
LOCATION:Fircroft College\, 1018 Bristol Road\, Birmingham\, B29 6LH\, United Kingdom
CATEGORIES:Open Days
ORGANIZER;CN="Fircroft College":MAILTO:admissions@fircroft.ac.uk
END:VEVENT
BEGIN:VEVENT
DTSTART;TZID=UTC:20230718T100000
DTEND;TZID=UTC:20230718T113000
DTSTAMP:20260423T122609
CREATED:20230608T155818Z
LAST-MODIFIED:20230720T155327Z
UID:10000004-1689674400-1689679800@www.fircroft.ac.uk
SUMMARY:Open Day - 18th July 2023\, 10.00am
DESCRIPTION:Our Open Days \nOur open days are held every Tuesday.  Register to attend and come and see the college\, meet some of the staff\, find out more about our courses and maybe even apply for a course! \nThere are two sessions starting at: 10am and 1.00pm. Book on this page for the morning session. \n 
URL:https://www.fircroft.ac.uk/event/open-day-2023-07-11-am/2023-07-18/
LOCATION:Fircroft College\, 1018 Bristol Road\, Birmingham\, B29 6LH\, United Kingdom
CATEGORIES:Open Days
ORGANIZER;CN="Fircroft College":MAILTO:admissions@fircroft.ac.uk
END:VEVENT
BEGIN:VEVENT
DTSTART;TZID=UTC:20230707T080000
DTEND;TZID=UTC:20230707T170000
DTSTAMP:20260423T122609
CREATED:20230614T102724Z
LAST-MODIFIED:20230614T103001Z
UID:10000005-1688716800-1688749200@www.fircroft.ac.uk
SUMMARY:Access to Higher Education Diploma Open Day
DESCRIPTION:Come and find out about our Access to Higher Education Diplomas starting in September 2023\, take a look around the college\, meet some of the staff and discover how the courses will be delivered and the support we offer.  You can even start the application process with us on the day and it could be you going to university in 2024! \nThere is plenty of free onsite parking available and lunch will be included. \nIf you have difficulties completing this registration form please contact our Admissions team on 0121 472 0116 or email admissions@fircroft.ac.uk.
URL:https://www.fircroft.ac.uk/event/access-to-higher-education-diploma-open-day/
LOCATION:Fircroft College\, 1018 Bristol Road\, Birmingham\, B29 6LH\, United Kingdom
CATEGORIES:Open Days
END:VEVENT
END:VCALENDAR